BEGIN:VCALENDAR
VERSION:2.0
PRODID:-//eventon.com NONSGML v1.0//EN
CALSCALE:GREGORIAN
METHOD:PUBLISH
BEGIN:VEVENT
UID:69e5e2a308edd
DTSTAMP:20260420T082403Z
DTSTART:20260805
DTEND:20260806
LOCATION:
SUMMARY:Guided Classic Tour du Mont Blanc
DESCRIPTION:Guided inn-to-inn hiking tour\nhttps://alpinehikers.com/events/
 guided-classic-tour-du-mont-blanc-080526/
URL:https://alpinehikers.com/events/guided-classic-tour-du-mont-blanc-080526/
END:VEVENT
END:VCALENDAR